BEGIN:VCALENDAR
VERSION:2.0
PRODID:-//www.eudoraschoolsfoundation.org//NONSGML kigkonsult.se iCalcreato
 r 2.30.10//
CALSCALE:GREGORIAN
METHOD:PUBLISH
UID:78f69aa3-9275-42d7-9b99-6e1b9fae41dd
X-WR-CALDESC:Join us for a beautiful day on the course.\n\nYou are invited 
 to the 2024 Eudora Schools Foundation Charitable Golf Tournament on Octobe
 r 18th at Eagle Bend Golf Course in Lawrence\, Kansas. It is a fantastic o
 pportunity to make a difference in the lives of Eudora students and teache
 rs.\n\nOur golf tournaments are a great success with 30 teams participatin
 g and numerous sponsors. The money raised support Educator Excellence Gran
 ts that fund exceptional education programs and provide educational resour
 ces throughout the district. The tournament is a great way for business an
 d community organizations to publicly position themselves as a partner wit
 h Eudora Schools\, please consider as many of the sponsorship opportunitie
 s as you are able. \n\nWhether you want to be a sponsor\, a participant\, 
 or both\, we'd love to have your continued support.
X-WR-RELCALID:c013eadbfabae572453c1c06395611ae
X-WR-TIMEZONE:America/Chicago
BEGIN:VTIMEZONE
TZID:America/Chicago
BEGIN:STANDARD
TZNAME:CST
DTSTART:20231105T020000
TZOFFSETFROM:-0500
TZOFFSETTO:-0600
RDATE:20241103T020000
RDATE:20251102T020000
END:STANDARD
BEGIN:DAYLIGHT
TZNAME:CDT
DTSTART:20240310T020000
TZOFFSETFROM:-0600
TZOFFSETTO:-0500
RDATE:20250309T020000
RDATE:20260308T020000
END:DAYLIGHT
END:VTIMEZONE
BEGIN:VEVENT
UID:15c9408c-8828-4f8d-b943-dc9c5ad4a294
DTSTAMP:20260425T193852Z
DESCRIPTION:Join us for a beautiful day on the course.\n\nYou are invited t
 o the 2024 Eudora Schools Foundation Charitable Golf Tournament on October
  18th at Eagle Bend Golf Course in Lawrence\, Kansas. It is a fantastic op
 portunity to make a difference in the lives of Eudora students and teacher
 s.\n\nOur golf tournaments are a great success with 30 teams participating
  and numerous sponsors. The money raised support Educator Excellence Grant
 s that fund exceptional education programs and provide educational resourc
 es throughout the district. The tournament is a great way for business and
  community organizations to publicly position themselves as a partner with
  Eudora Schools\, please consider as many of the sponsorship opportunities
  as you are able. \n\nWhether you want to be a sponsor\, a participant\, o
 r both\, we'd love to have your continued support.
DTSTART;TZID=America/Chicago:20241018T110000
DTEND;TZID=America/Chicago:20241018T173000
LOCATION:1250 E 902 Road\, Lawrence\, KS 66025 US
SUMMARY:14th Annual ESF Golf Tournament
END:VEVENT
END:VCALENDAR
